Package: GenomicState Version: 0.99.16 Command: /home/biocbuild/bbs-3.21-bioc/R/bin/R CMD build --keep-empty-dirs --no-resave-data GenomicState StartedAt: 2025-02-05 06:31:32 -0500 (Wed, 05 Feb 2025) EndedAt: 2025-02-05 06:33:36 -0500 (Wed, 05 Feb 2025) EllapsedTime: 124.1 seconds RetCode: 0 Status: OK PackageFile: GenomicState_0.99.16.tar.gz PackageFileSize: 921.4 KiB