Package: GenomicState Version: 0.99.16 Maintainer: Leonardo Collado-Torres MaintainerEmail: lcolladotor at gmail.com git_url: https://git.bioconductor.org/packages/GenomicState git_branch: devel git_last_commit: 9682b17 git_last_commit_date: 2024-12-12 16:57:16 -0500 (Thu, 12 Dec 2024)