Package: GeneSummary Version: 0.99.6 Command: /home/biocbuild/bbs-3.23-bioc/R/bin/R CMD INSTALL GeneSummary StartedAt: 2025-11-26 06:00:08 -0500 (Wed, 26 Nov 2025) EndedAt: 2025-11-26 06:00:10 -0500 (Wed, 26 Nov 2025) EllapsedTime: 2.1 seconds RetCode: 0 Status: OK