Package: GeneSummary Version: 0.99.6 Command: /home/biocbuild/bbs-3.23-bioc/R/bin/R CMD build --keep-empty-dirs --no-resave-data GeneSummary StartedAt: 2025-11-26 06:01:55 -0500 (Wed, 26 Nov 2025) EndedAt: 2025-11-26 06:01:59 -0500 (Wed, 26 Nov 2025) EllapsedTime: 4.3 seconds RetCode: 0 Status: OK PackageFile: GeneSummary_0.99.6.tar.gz PackageFileSize: 3.3 MiB