Package: EuPathDB Version: 1.0.1 Command: /home/biocbuild/bbs-3.22-bioc/R/bin/R CMD INSTALL EuPathDB StartedAt: 2025-07-23 06:30:35 -0400 (Wed, 23 Jul 2025) EndedAt: 2025-07-23 06:31:27 -0400 (Wed, 23 Jul 2025) EllapsedTime: 52.3 seconds RetCode: 0 Status: OK