Package: EuPathDB Version: 1.0.1 Command: /home/biocbuild/bbs-3.22-bioc/R/bin/R CMD build --keep-empty-dirs --no-resave-data EuPathDB StartedAt: 2025-07-23 06:32:04 -0400 (Wed, 23 Jul 2025) EndedAt: 2025-07-23 06:33:19 -0400 (Wed, 23 Jul 2025) EllapsedTime: 74.6 seconds RetCode: 1 Status: ERROR PackageFile: None PackageFileSize: NA