Package: EuPathDB Version: 1.0.1 Command: /home/biocbuild/bbs-3.23-bioc/R/bin/R CMD INSTALL EuPathDB StartedAt: 2025-11-26 06:00:26 -0500 (Wed, 26 Nov 2025) EndedAt: 2025-11-26 06:01:03 -0500 (Wed, 26 Nov 2025) EllapsedTime: 36.9 seconds RetCode: 0 Status: OK