Package: EuPathDB Version: 1.0.1 Command: /home/biocbuild/bbs-3.23-bioc/R/bin/R CMD build --keep-empty-dirs --no-resave-data EuPathDB StartedAt: 2025-11-26 06:01:45 -0500 (Wed, 26 Nov 2025) EndedAt: 2025-11-26 06:02:38 -0500 (Wed, 26 Nov 2025) EllapsedTime: 53.4 seconds RetCode: 1 Status: ERROR PackageFile: None PackageFileSize: NA