Package: EpiTxDb.Sc.sacCer3 Version: 0.99.5 Command: /home/biocbuild/bbs-3.23-bioc/R/bin/R CMD INSTALL EpiTxDb.Sc.sacCer3 StartedAt: 2025-11-26 06:00:29 -0500 (Wed, 26 Nov 2025) EndedAt: 2025-11-26 06:01:08 -0500 (Wed, 26 Nov 2025) EllapsedTime: 39.4 seconds RetCode: 0 Status: OK