Package: EpiTxDb.Sc.sacCer3 Version: 0.99.5 Command: /home/biocbuild/bbs-3.23-bioc/R/bin/R CMD build --keep-empty-dirs --no-resave-data EpiTxDb.Sc.sacCer3 StartedAt: 2025-11-26 06:01:44 -0500 (Wed, 26 Nov 2025) EndedAt: 2025-11-26 06:02:48 -0500 (Wed, 26 Nov 2025) EllapsedTime: 64.1 seconds RetCode: 0 Status: OK PackageFile: EpiTxDb.Sc.sacCer3_0.99.5.tar.gz PackageFileSize: 304.1 KiB