Package: EpiTxDb.Mm.mm10 Version: 0.99.6 Command: /home/biocbuild/bbs-3.22-bioc/R/bin/R CMD check --install=check:EpiTxDb.Mm.mm10.install-out.txt --library=/home/biocbuild/bbs-3.22-bioc/R/site-library --timings EpiTxDb.Mm.mm10_0.99.6.tar.gz StartedAt: 2025-10-22 05:59:53 -0400 (Wed, 22 Oct 2025) EndedAt: 2025-10-22 06:07:17 -0400 (Wed, 22 Oct 2025) EllapsedTime: 444.1 seconds RetCode: 0 Status: OK CheckDir: EpiTxDb.Mm.mm10.Rcheck Warnings: 0