Package: EpiTxDb.Mm.mm10 Version: 0.99.6 Command: /home/biocbuild/bbs-3.23-bioc/R/bin/R CMD INSTALL EpiTxDb.Mm.mm10 StartedAt: 2025-11-26 06:00:35 -0500 (Wed, 26 Nov 2025) EndedAt: 2025-11-26 06:01:15 -0500 (Wed, 26 Nov 2025) EllapsedTime: 39.7 seconds RetCode: 0 Status: OK