Package: EpiTxDb.Hs.hg38 Version: 0.99.7 Command: /home/biocbuild/bbs-3.21-bioc/R/bin/R CMD INSTALL EpiTxDb.Hs.hg38 StartedAt: 2025-02-12 06:30:25 -0500 (Wed, 12 Feb 2025) EndedAt: 2025-02-12 06:31:04 -0500 (Wed, 12 Feb 2025) EllapsedTime: 38.3 seconds RetCode: 0 Status: OK