Package: EpiTxDb.Hs.hg38 Version: 0.99.7 Command: /home/biocbuild/bbs-3.21-bioc/R/bin/R CMD check --install=check:EpiTxDb.Hs.hg38.install-out.txt --library=/home/biocbuild/bbs-3.21-bioc/R/site-library --timings EpiTxDb.Hs.hg38_0.99.7.tar.gz StartedAt: 2025-02-05 06:33:36 -0500 (Wed, 05 Feb 2025) EndedAt: 2025-02-05 06:39:50 -0500 (Wed, 05 Feb 2025) EllapsedTime: 373.8 seconds RetCode: 0 Status: OK CheckDir: EpiTxDb.Hs.hg38.Rcheck Warnings: 0