Package: EPICv2manifest Version: 0.99.7 Command: /home/biocbuild/bbs-3.21-bioc/R/bin/R CMD build --keep-empty-dirs --no-resave-data EPICv2manifest StartedAt: 2025-02-12 06:31:12 -0500 (Wed, 12 Feb 2025) EndedAt: 2025-02-12 06:31:23 -0500 (Wed, 12 Feb 2025) EllapsedTime: 10.9 seconds RetCode: 0 Status: OK PackageFile: EPICv2manifest_0.99.7.tar.gz PackageFileSize: 7.215 KiB