Package: ENCODExplorerData Version: 0.99.5 Command: /home/biocbuild/bbs-3.23-bioc/R/bin/R CMD INSTALL ENCODExplorerData StartedAt: 2025-11-26 06:00:09 -0500 (Wed, 26 Nov 2025) EndedAt: 2025-11-26 06:00:12 -0500 (Wed, 26 Nov 2025) EllapsedTime: 3.2 seconds RetCode: 0 Status: OK