Package: ENCODExplorerData Version: 0.99.5 Command: /home/biocbuild/bbs-3.23-bioc/R/bin/R CMD check --install=check:ENCODExplorerData.install-out.txt --library=/home/biocbuild/bbs-3.23-bioc/R/site-library --timings ENCODExplorerData_0.99.5.tar.gz StartedAt: 2025-11-26 06:09:20 -0500 (Wed, 26 Nov 2025) EndedAt: 2025-11-26 06:11:21 -0500 (Wed, 26 Nov 2025) EllapsedTime: 120.7 seconds RetCode: 0 Status: OK CheckDir: ENCODExplorerData.Rcheck Warnings: 0