Package: ENCODExplorerData Version: 0.99.5 Command: /home/biocbuild/bbs-3.23-bioc/R/bin/R CMD build --keep-empty-dirs --no-resave-data ENCODExplorerData StartedAt: 2025-11-26 06:01:32 -0500 (Wed, 26 Nov 2025) EndedAt: 2025-11-26 06:01:37 -0500 (Wed, 26 Nov 2025) EllapsedTime: 4.6 seconds RetCode: 0 Status: OK PackageFile: ENCODExplorerData_0.99.5.tar.gz PackageFileSize: 229.5 KiB