Package: CENTREannotation Version: 0.99.1 Command: /home/biocbuild/bbs-3.22-bioc/R/bin/R CMD check --install=check:CENTREannotation.install-out.txt --library=/home/biocbuild/bbs-3.22-bioc/R/site-library --timings CENTREannotation_0.99.1.tar.gz StartedAt: 2025-10-15 05:58:48 -0400 (Wed, 15 Oct 2025) EndedAt: 2025-10-15 06:00:51 -0400 (Wed, 15 Oct 2025) EllapsedTime: 122.0 seconds RetCode: 0 Status: OK CheckDir: CENTREannotation.Rcheck Warnings: 0