Package: BioMartGOGeneSets Version: 0.99.11 Command: /home/biocbuild/bbs-3.23-bioc/R/bin/R CMD build --keep-empty-dirs --no-resave-data BioMartGOGeneSets StartedAt: 2025-11-26 06:01:31 -0500 (Wed, 26 Nov 2025) EndedAt: 2025-11-26 06:09:20 -0500 (Wed, 26 Nov 2025) EllapsedTime: 469.2 seconds RetCode: 0 Status: OK PackageFile: BioMartGOGeneSets_0.99.11.tar.gz PackageFileSize: 819.1 KiB