Package: AlphaMissense.v2023.hg38 Version: 3.18.2 Command: /home/biocbuild/bbs-3.21-bioc/R/bin/R CMD INSTALL AlphaMissense.v2023.hg38 StartedAt: 2025-02-05 06:30:17 -0500 (Wed, 05 Feb 2025) EndedAt: 2025-02-05 06:30:35 -0500 (Wed, 05 Feb 2025) EllapsedTime: 17.5 seconds RetCode: 0 Status: OK