Package: AHWikipathwaysDbs Version: 0.99.4 Command: /home/biocbuild/bbs-3.23-bioc/R/bin/R CMD build --keep-empty-dirs --no-resave-data AHWikipathwaysDbs StartedAt: 2025-11-26 06:01:31 -0500 (Wed, 26 Nov 2025) EndedAt: 2025-11-26 06:01:55 -0500 (Wed, 26 Nov 2025) EllapsedTime: 23.7 seconds RetCode: 0 Status: OK PackageFile: AHWikipathwaysDbs_0.99.4.tar.gz PackageFileSize: 295 KiB