Package: AHPubMedDbs Version: 1.8.0 Command: /home/biocbuild/bbs-3.22-bioc/R/bin/R CMD INSTALL AHPubMedDbs StartedAt: 2025-10-08 05:55:20 -0400 (Wed, 08 Oct 2025) EndedAt: 2025-10-08 05:55:21 -0400 (Wed, 08 Oct 2025) EllapsedTime: 1.4 seconds RetCode: 0 Status: OK