Package: AHPubMedDbs Version: 1.8.0 Command: /home/biocbuild/bbs-3.21-bioc/R/bin/R CMD check --install=check:AHPubMedDbs.install-out.txt --library=/home/biocbuild/bbs-3.21-bioc/R/site-library --timings AHPubMedDbs_1.8.0.tar.gz StartedAt: 2025-02-05 06:33:36 -0500 (Wed, 05 Feb 2025) EndedAt: 2025-02-05 06:34:00 -0500 (Wed, 05 Feb 2025) EllapsedTime: 23.9 seconds RetCode: 0 Status: OK CheckDir: AHPubMedDbs.Rcheck Warnings: 0