Package: AHPubMedDbs Version: 1.8.0 Command: /home/biocbuild/bbs-3.21-bioc/R/bin/R CMD build --keep-empty-dirs --no-resave-data AHPubMedDbs StartedAt: 2025-02-05 06:31:09 -0500 (Wed, 05 Feb 2025) EndedAt: 2025-02-05 06:31:24 -0500 (Wed, 05 Feb 2025) EllapsedTime: 14.8 seconds RetCode: 0 Status: OK PackageFile: AHPubMedDbs_1.8.0.tar.gz PackageFileSize: 297.5 KiB