Package: AHPathbankDbs Version: 0.99.5 Command: /home/biocbuild/bbs-3.22-bioc/R/bin/R CMD INSTALL AHPathbankDbs StartedAt: 2025-10-22 05:55:13 -0400 (Wed, 22 Oct 2025) EndedAt: 2025-10-22 05:55:24 -0400 (Wed, 22 Oct 2025) EllapsedTime: 11.3 seconds RetCode: 0 Status: OK