Package: AHPathbankDbs Version: 0.99.5 Command: /home/biocbuild/bbs-3.22-bioc/R/bin/R CMD build --keep-empty-dirs --no-resave-data AHPathbankDbs StartedAt: 2025-10-22 05:56:47 -0400 (Wed, 22 Oct 2025) EndedAt: 2025-10-22 05:57:27 -0400 (Wed, 22 Oct 2025) EllapsedTime: 39.8 seconds RetCode: 0 Status: OK PackageFile: AHPathbankDbs_0.99.5.tar.gz PackageFileSize: 292.5 KiB