Package: AHPathbankDbs Version: 0.99.5 Command: /home/biocbuild/bbs-3.21-bioc/R/bin/R CMD INSTALL AHPathbankDbs StartedAt: 2025-02-05 06:30:10 -0500 (Wed, 05 Feb 2025) EndedAt: 2025-02-05 06:30:20 -0500 (Wed, 05 Feb 2025) EllapsedTime: 9.9 seconds RetCode: 0 Status: OK