Package: AHPathbankDbs Version: 0.99.5 Command: /home/biocbuild/bbs-3.21-bioc/R/bin/R CMD check --install=check:AHPathbankDbs.install-out.txt --library=/home/biocbuild/bbs-3.21-bioc/R/site-library --timings AHPathbankDbs_0.99.5.tar.gz StartedAt: 2025-02-05 06:33:36 -0500 (Wed, 05 Feb 2025) EndedAt: 2025-02-05 06:34:29 -0500 (Wed, 05 Feb 2025) EllapsedTime: 53.2 seconds RetCode: 0 Status: OK CheckDir: AHPathbankDbs.Rcheck Warnings: 0