Package: AHPathbankDbs Version: 0.99.5 Command: /home/biocbuild/bbs-3.21-bioc/R/bin/R CMD build --keep-empty-dirs --no-resave-data AHPathbankDbs StartedAt: 2025-02-05 06:31:09 -0500 (Wed, 05 Feb 2025) EndedAt: 2025-02-05 06:31:34 -0500 (Wed, 05 Feb 2025) EllapsedTime: 24.0 seconds RetCode: 0 Status: OK PackageFile: AHPathbankDbs_0.99.5.tar.gz PackageFileSize: 292.6 KiB