Package: AHEnsDbs Version: 1.7.0 Command: /home/biocbuild/bbs-3.21-bioc/R/bin/R CMD check --install=check:AHEnsDbs.install-out.txt --library=/home/biocbuild/bbs-3.21-bioc/R/site-library --timings AHEnsDbs_1.7.0.tar.gz StartedAt: 2025-02-05 06:33:36 -0500 (Wed, 05 Feb 2025) EndedAt: 2025-02-05 06:35:38 -0500 (Wed, 05 Feb 2025) EllapsedTime: 122.1 seconds RetCode: 0 Status: OK CheckDir: AHEnsDbs.Rcheck Warnings: 0