Package: AHEnsDbs Version: 1.7.0 Maintainer: Johannes Rainer MaintainerEmail: johannes.rainer at eurac.edu git_url: https://git.bioconductor.org/packages/AHEnsDbs git_branch: devel git_last_commit: 2cef9f0 git_last_commit_date: 2024-11-08 02:12:29 -0400 (Fri, 08 Nov 2024)