Package: AHCytoBands Version: 0.99.1 Command: /home/biocbuild/bbs-3.22-bioc/R/bin/R CMD build --keep-empty-dirs --no-resave-data AHCytoBands StartedAt: 2025-10-01 05:56:15 -0400 (Wed, 01 Oct 2025) EndedAt: 2025-10-01 05:56:16 -0400 (Wed, 01 Oct 2025) EllapsedTime: 1.0 seconds RetCode: 0 Status: OK PackageFile: AHCytoBands_0.99.1.tar.gz PackageFileSize: 2.042 KiB