Package: AHCytoBands Version: 0.99.1 Command: /home/biocbuild/bbs-3.21-bioc/R/bin/R CMD check --install=check:AHCytoBands.install-out.txt --library=/home/biocbuild/bbs-3.21-bioc/R/site-library --timings AHCytoBands_0.99.1.tar.gz StartedAt: 2025-02-05 06:33:36 -0500 (Wed, 05 Feb 2025) EndedAt: 2025-02-05 06:33:44 -0500 (Wed, 05 Feb 2025) EllapsedTime: 8.3 seconds RetCode: 0 Status: OK CheckDir: AHCytoBands.Rcheck Warnings: 0