| Back to Books build report for BioC 3.22 |
This page was generated on 2025-08-13 14:30 -0400 (Wed, 13 Aug 2025).
LibPath Version Built
abind /home/biocbuild/bbs-3.22-books/R/site-library 1.4-8 4.5.1
aggregation /home/biocbuild/bbs-3.22-books/R/site-library 1.0.1 4.5.1
alabaster.base /home/biocbuild/bbs-3.22-books/R/site-library 1.9.5 4.5.1
alabaster.matrix /home/biocbuild/bbs-3.22-books/R/site-library 1.9.0 4.5.1
alabaster.ranges /home/biocbuild/bbs-3.22-books/R/site-library 1.9.1 4.5.1
alabaster.sce /home/biocbuild/bbs-3.22-books/R/site-library 1.9.0 4.5.1
alabaster.schemas /home/biocbuild/bbs-3.22-books/R/site-library 1.9.0 4.5.1
alabaster.se /home/biocbuild/bbs-3.22-books/R/site-library 1.9.0 4.5.1
annotate /home/biocbuild/bbs-3.22-books/R/site-library 1.87.0 4.5.1
AnnotationDbi /home/biocbuild/bbs-3.22-books/R/site-library 1.71.1 4.5.1
AnnotationFilter /home/biocbuild/bbs-3.22-books/R/site-library 1.33.0 4.5.1
AnnotationHub /home/biocbuild/bbs-3.22-books/R/site-library 3.99.6 4.5.1
apcluster /home/biocbuild/bbs-3.22-books/R/site-library 1.4.13 4.5.1
askpass /home/biocbuild/bbs-3.22-books/R/site-library 1.2.1 4.5.1
assertthat /home/biocbuild/bbs-3.22-books/R/site-library 0.2.1 4.5.1
assorthead /home/biocbuild/bbs-3.22-books/R/site-library 1.3.6 4.5.1
AUCell /home/biocbuild/bbs-3.22-books/R/site-library 1.31.0 4.5.1
babelgene /home/biocbuild/bbs-3.22-books/R/site-library 22.9 4.5.1
backports /home/biocbuild/bbs-3.22-books/R/site-library 1.5.0 4.5.1
base64enc /home/biocbuild/bbs-3.22-books/R/site-library 0.1-3 4.5.1
basilisk /home/biocbuild/bbs-3.22-books/R/site-library 1.21.5 4.5.1
basilisk.utils /home/biocbuild/bbs-3.22-books/R/site-library 1.21.2 4.5.1
batchelor /home/biocbuild/bbs-3.22-books/R/site-library 1.25.0 4.5.1
beachmat /home/biocbuild/bbs-3.22-books/R/site-library 2.25.4 4.5.1
beeswarm /home/biocbuild/bbs-3.22-books/R/site-library 0.4.0 4.5.1
benchmarkme /home/biocbuild/bbs-3.22-books/R/site-library 1.0.8 4.5.1
benchmarkmeData /home/biocbuild/bbs-3.22-books/R/site-library 1.0.4 4.5.1
BH /home/biocbuild/bbs-3.22-books/R/site-library 1.87.0-1 4.5.1
Biobase /home/biocbuild/bbs-3.22-books/R/site-library 2.69.0 4.5.1
BiocBaseUtils /home/biocbuild/bbs-3.22-books/R/site-library 1.11.2 4.5.1
BiocBookDemo /home/biocbuild/bbs-3.22-books/R/site-library 1.7.0 4.5.1
BiocFileCache /home/biocbuild/bbs-3.22-books/R/site-library 2.99.5 4.5.1
BiocGenerics /home/biocbuild/bbs-3.22-books/R/site-library 0.55.1 4.5.1
BiocIO /home/biocbuild/bbs-3.22-books/R/site-library 1.19.0 4.5.1
BiocManager /home/biocbuild/bbs-3.22-books/R/site-library 1.30.26 4.5.1
BiocNeighbors /home/biocbuild/bbs-3.22-books/R/site-library 2.3.1 4.5.1
BiocParallel /home/biocbuild/bbs-3.22-books/R/site-library 1.43.4 4.5.1
BiocSingular /home/biocbuild/bbs-3.22-books/R/site-library 1.25.0 4.5.1
BiocStyle /home/biocbuild/bbs-3.22-books/R/site-library 2.37.1 4.5.1
BiocVersion /home/biocbuild/bbs-3.22-books/R/site-library 3.22.0 4.5.1
biomaRt /home/biocbuild/bbs-3.22-books/R/site-library 2.65.0 4.5.1
Biostrings /home/biocbuild/bbs-3.22-books/R/site-library 2.77.2 4.5.1
biovizBase /home/biocbuild/bbs-3.22-books/R/site-library 1.57.1 4.5.1
bit /home/biocbuild/bbs-3.22-books/R/site-library 4.6.0 4.5.1
bit64 /home/biocbuild/bbs-3.22-books/R/site-library 4.6.0-1 4.5.1
bitops /home/biocbuild/bbs-3.22-books/R/site-library 1.0-9 4.5.1
blob /home/biocbuild/bbs-3.22-books/R/site-library 1.2.4 4.5.1
bluster /home/biocbuild/bbs-3.22-books/R/site-library 1.19.0 4.5.1
bookdown /home/biocbuild/bbs-3.22-books/R/site-library 0.43 4.5.1
BSgenome /home/biocbuild/bbs-3.22-books/R/site-library 1.77.1 4.5.1
BSgenome.Hsapiens.UCSC.hg38 /home/biocbuild/bbs-3.22-books/R/site-library 1.4.5 4.5.1
bslib /home/biocbuild/bbs-3.22-books/R/site-library 0.9.0 4.5.1
BumpyMatrix /home/biocbuild/bbs-3.22-books/R/site-library 1.17.0 4.5.1
cachem /home/biocbuild/bbs-3.22-books/R/site-library 1.1.0 4.5.1
Cairo /home/biocbuild/bbs-3.22-books/R/site-library 1.6-2 4.5.1
calibrate /home/biocbuild/bbs-3.22-books/R/site-library 1.7.7 4.5.1
caTools /home/biocbuild/bbs-3.22-books/R/site-library 1.18.3 4.5.1
celldex /home/biocbuild/bbs-3.22-books/R/site-library 1.19.0 4.5.1
cellranger /home/biocbuild/bbs-3.22-books/R/site-library 1.1.0 4.5.1
checkmate /home/biocbuild/bbs-3.22-books/R/site-library 2.3.2 4.5.1
ChIPpeakAnno /home/biocbuild/bbs-3.22-books/R/site-library 3.43.1 4.5.1
chipseqDBData /home/biocbuild/bbs-3.22-books/R/site-library 1.25.0 4.5.1
circlize /home/biocbuild/bbs-3.22-books/R/site-library 0.4.16 4.5.1
cli /home/biocbuild/bbs-3.22-books/R/site-library 3.6.5 4.5.1
clipr /home/biocbuild/bbs-3.22-books/R/site-library 0.8.0 4.5.1
clue /home/biocbuild/bbs-3.22-books/R/site-library 0.3-66 4.5.1
ClusterR /home/biocbuild/bbs-3.22-books/R/site-library 1.3.3 4.5.1
clustree /home/biocbuild/bbs-3.22-books/R/site-library 0.5.1 4.5.1
CodeDepends /home/biocbuild/bbs-3.22-books/R/site-library 0.6.6 4.5.1
colorspace /home/biocbuild/bbs-3.22-books/R/site-library 2.1-1 4.5.1
colourpicker /home/biocbuild/bbs-3.22-books/R/site-library 1.3.0 4.5.1
combinat /home/biocbuild/bbs-3.22-books/R/site-library 0.0-8 4.5.1
commonmark /home/biocbuild/bbs-3.22-books/R/site-library 2.0.0 4.5.1
ComplexHeatmap /home/biocbuild/bbs-3.22-books/R/site-library 2.25.2 4.5.1
coop /home/biocbuild/bbs-3.22-books/R/site-library 0.6-3 4.5.1
coro /home/biocbuild/bbs-3.22-books/R/site-library 1.1.0 4.5.1
corral /home/biocbuild/bbs-3.22-books/R/site-library 1.19.0 4.5.1
cowplot /home/biocbuild/bbs-3.22-books/R/site-library 1.2.0 4.5.1
cpp11 /home/biocbuild/bbs-3.22-books/R/site-library 0.5.2 4.5.1
crayon /home/biocbuild/bbs-3.22-books/R/site-library 1.5.3 4.5.1
crosstalk /home/biocbuild/bbs-3.22-books/R/site-library 1.2.1 4.5.1
csaw /home/biocbuild/bbs-3.22-books/R/site-library 1.43.1 4.5.1
csawBook /home/biocbuild/bbs-3.22-books/R/site-library 1.17.0 4.5.1
curl /home/biocbuild/bbs-3.22-books/R/site-library 6.4.0 4.5.1
data.table /home/biocbuild/bbs-3.22-books/R/site-library 1.17.8 4.5.1
DBI /home/biocbuild/bbs-3.22-books/R/site-library 1.2.3 4.5.1
dbplyr /home/biocbuild/bbs-3.22-books/R/site-library 2.5.0 4.5.1
DelayedArray /home/biocbuild/bbs-3.22-books/R/site-library 0.35.2 4.5.1
DelayedMatrixStats /home/biocbuild/bbs-3.22-books/R/site-library 1.31.0 4.5.1
deldir /home/biocbuild/bbs-3.22-books/R/site-library 2.0-4 4.5.1
dendextend /home/biocbuild/bbs-3.22-books/R/site-library 1.19.1 4.5.1
densvis /home/biocbuild/bbs-3.22-books/R/site-library 1.19.0 4.5.1
DEoptimR /home/biocbuild/bbs-3.22-books/R/site-library 1.1-4 4.5.1
dichromat /home/biocbuild/bbs-3.22-books/R/site-library 2.0-0.1 4.5.1
diffHic /home/biocbuild/bbs-3.22-books/R/site-library 1.41.0 4.5.1
digest /home/biocbuild/bbs-3.22-books/R/site-library 0.6.37 4.5.1
dir.expiry /home/biocbuild/bbs-3.22-books/R/site-library 1.17.0 4.5.1
DNAZooData /home/biocbuild/bbs-3.22-books/R/site-library 1.9.0 4.5.1
doParallel /home/biocbuild/bbs-3.22-books/R/site-library 1.0.17 4.5.1
dplyr /home/biocbuild/bbs-3.22-books/R/site-library 1.1.4 4.5.1
dqrng /home/biocbuild/bbs-3.22-books/R/site-library 0.4.1 4.5.1
DropletTestFiles /home/biocbuild/bbs-3.22-books/R/site-library 1.19.0 4.5.1
DropletUtils /home/biocbuild/bbs-3.22-books/R/site-library 1.29.4 4.5.1
DT /home/biocbuild/bbs-3.22-books/R/site-library 0.33 4.5.1
dynamicTreeCut /home/biocbuild/bbs-3.22-books/R/site-library 1.63-1 4.5.1
edgeR /home/biocbuild/bbs-3.22-books/R/site-library 4.7.3 4.5.1
elasticnet /home/biocbuild/bbs-3.22-books/R/site-library 1.3 4.5.1
ellmer /home/biocbuild/bbs-3.22-books/R/site-library 0.3.0 4.5.1
EnsDb.Hsapiens.v86 /home/biocbuild/bbs-3.22-books/R/site-library 2.99.0 4.5.1
ensembldb /home/biocbuild/bbs-3.22-books/R/site-library 2.33.1 4.5.1
evaluate /home/biocbuild/bbs-3.22-books/R/site-library 1.0.4 4.5.1
ExperimentHub /home/biocbuild/bbs-3.22-books/R/site-library 2.99.5 4.5.1
farver /home/biocbuild/bbs-3.22-books/R/site-library 2.1.2 4.5.1
fastcluster /home/biocbuild/bbs-3.22-books/R/site-library 1.3.0 4.5.1
fastICA /home/biocbuild/bbs-3.22-books/R/site-library 1.2-7 4.5.1
fastmap /home/biocbuild/bbs-3.22-books/R/site-library 1.2.0 4.5.1
filelock /home/biocbuild/bbs-3.22-books/R/site-library 1.0.3 4.5.1
FNN /home/biocbuild/bbs-3.22-books/R/site-library 1.1.4.1 4.5.1
fontawesome /home/biocbuild/bbs-3.22-books/R/site-library 0.5.3 4.5.1
forcats /home/biocbuild/bbs-3.22-books/R/site-library 1.0.0 4.5.1
foreach /home/biocbuild/bbs-3.22-books/R/site-library 1.5.2 4.5.1
formatR /home/biocbuild/bbs-3.22-books/R/site-library 1.14 4.5.1
Formula /home/biocbuild/bbs-3.22-books/R/site-library 1.2-5 4.5.1
fourDNData /home/biocbuild/bbs-3.22-books/R/site-library 1.9.0 4.5.1
fs /home/biocbuild/bbs-3.22-books/R/site-library 1.6.6 4.5.1
futile.logger /home/biocbuild/bbs-3.22-books/R/site-library 1.4.3 4.5.1
futile.options /home/biocbuild/bbs-3.22-books/R/site-library 1.0.1 4.5.1
future /home/biocbuild/bbs-3.22-books/R/site-library 1.67.0 4.5.1
future.apply /home/biocbuild/bbs-3.22-books/R/site-library 1.20.0 4.5.1
generics /home/biocbuild/bbs-3.22-books/R/site-library 0.1.4 4.5.1
GenomeInfoDb /home/biocbuild/bbs-3.22-books/R/site-library 1.45.9 4.5.1
GenomeInfoDbData /home/biocbuild/bbs-3.22-books/R/site-library 1.2.14 4.5.1
GenomicAlignments /home/biocbuild/bbs-3.22-books/R/site-library 1.45.2 4.5.1
GenomicFeatures /home/biocbuild/bbs-3.22-books/R/site-library 1.61.6 4.5.1
GenomicInteractions /home/biocbuild/bbs-3.22-books/R/site-library 1.43.1 4.5.1
GenomicRanges /home/biocbuild/bbs-3.22-books/R/site-library 1.61.1 4.5.1
GetoptLong /home/biocbuild/bbs-3.22-books/R/site-library 1.0.5 4.5.1
GGally /home/biocbuild/bbs-3.22-books/R/site-library 2.3.0 4.5.1
ggbeeswarm /home/biocbuild/bbs-3.22-books/R/site-library 0.7.2 4.5.1
ggbio /home/biocbuild/bbs-3.22-books/R/site-library 1.57.1 4.5.1
ggforce /home/biocbuild/bbs-3.22-books/R/site-library 0.5.0 4.5.1
ggplot2 /home/biocbuild/bbs-3.22-books/R/site-library 3.5.2 4.5.1
ggraph /home/biocbuild/bbs-3.22-books/R/site-library 2.2.1 4.5.1
ggrastr /home/biocbuild/bbs-3.22-books/R/site-library 1.0.2 4.5.1
ggrepel /home/biocbuild/bbs-3.22-books/R/site-library 0.9.6 4.5.1
ggstats /home/biocbuild/bbs-3.22-books/R/site-library 0.10.0 4.5.1
ggthemes /home/biocbuild/bbs-3.22-books/R/site-library 5.1.0 4.5.1
GlobalOptions /home/biocbuild/bbs-3.22-books/R/site-library 0.1.2 4.5.1
globals /home/biocbuild/bbs-3.22-books/R/site-library 0.18.0 4.5.1
glue /home/biocbuild/bbs-3.22-books/R/site-library 1.8.0 4.5.1
gmp /home/biocbuild/bbs-3.22-books/R/site-library 0.7-5 4.5.1
GO.db /home/biocbuild/bbs-3.22-books/R/site-library 3.21.0 4.5.1
GOTHiC /home/biocbuild/bbs-3.22-books/R/site-library 1.45.1 4.5.1
gplots /home/biocbuild/bbs-3.22-books/R/site-library 3.2.0 4.5.1
graph /home/biocbuild/bbs-3.22-books/R/site-library 1.87.0 4.5.1
graphlayouts /home/biocbuild/bbs-3.22-books/R/site-library 1.2.2 4.5.1
gridExtra /home/biocbuild/bbs-3.22-books/R/site-library 2.3 4.5.1
GSEABase /home/biocbuild/bbs-3.22-books/R/site-library 1.71.0 4.5.1
gtable /home/biocbuild/bbs-3.22-books/R/site-library 0.3.6 4.5.1
gtools /home/biocbuild/bbs-3.22-books/R/site-library 3.9.5 4.5.1
Gviz /home/biocbuild/bbs-3.22-books/R/site-library 1.53.1 4.5.1
gypsum /home/biocbuild/bbs-3.22-books/R/site-library 1.5.0 4.5.1
h5mread /home/biocbuild/bbs-3.22-books/R/site-library 1.1.1 4.5.1
HCAData /home/biocbuild/bbs-3.22-books/R/site-library 1.25.0 4.5.1
HDF5Array /home/biocbuild/bbs-3.22-books/R/site-library 1.37.0 4.5.1
here /home/biocbuild/bbs-3.22-books/R/site-library 1.0.1 4.5.1
HiCcompare /home/biocbuild/bbs-3.22-books/R/site-library 1.31.0 4.5.1
HiCExperiment /home/biocbuild/bbs-3.22-books/R/site-library 1.9.2 4.5.1
HiContacts /home/biocbuild/bbs-3.22-books/R/site-library 1.11.0 4.5.1
HiContactsData /home/biocbuild/bbs-3.22-books/R/site-library 1.11.0 4.5.1
HiCool /home/biocbuild/bbs-3.22-books/R/site-library 1.9.1 4.5.1
highr /home/biocbuild/bbs-3.22-books/R/site-library 0.11 4.5.1
Hmisc /home/biocbuild/bbs-3.22-books/R/site-library 5.2-3 4.5.1
hms /home/biocbuild/bbs-3.22-books/R/site-library 1.1.3 4.5.1
htmlTable /home/biocbuild/bbs-3.22-books/R/site-library 2.4.3 4.5.1
htmltools /home/biocbuild/bbs-3.22-books/R/site-library 0.5.8.1 4.5.1
htmlwidgets /home/biocbuild/bbs-3.22-books/R/site-library 1.6.4 4.5.1
httpuv /home/biocbuild/bbs-3.22-books/R/site-library 1.6.16 4.5.1
httr /home/biocbuild/bbs-3.22-books/R/site-library 1.4.7 4.5.1
httr2 /home/biocbuild/bbs-3.22-books/R/site-library 1.2.1 4.5.1
hwriter /home/biocbuild/bbs-3.22-books/R/site-library 1.3.2.1 4.5.1
igraph /home/biocbuild/bbs-3.22-books/R/site-library 2.1.4 4.5.1
impute /home/biocbuild/bbs-3.22-books/R/site-library 1.83.0 4.5.1
InteractionSet /home/biocbuild/bbs-3.22-books/R/site-library 1.37.1 4.5.1
interp /home/biocbuild/bbs-3.22-books/R/site-library 1.1-6 4.5.1
IRanges /home/biocbuild/bbs-3.22-books/R/site-library 2.43.0 4.5.1
irlba /home/biocbuild/bbs-3.22-books/R/site-library 2.3.5.1 4.5.1
iSEE /home/biocbuild/bbs-3.22-books/R/site-library 2.21.1 4.5.1
isoband /home/biocbuild/bbs-3.22-books/R/site-library 0.2.7 4.5.1
iterators /home/biocbuild/bbs-3.22-books/R/site-library 1.0.14 4.5.1
jpeg /home/biocbuild/bbs-3.22-books/R/site-library 0.1-11 4.5.1
jquerylib /home/biocbuild/bbs-3.22-books/R/site-library 0.1.4 4.5.1
jsonlite /home/biocbuild/bbs-3.22-books/R/site-library 2.0.0 4.5.1
jsonvalidate /home/biocbuild/bbs-3.22-books/R/site-library 1.5.0 4.5.1
KEGGREST /home/biocbuild/bbs-3.22-books/R/site-library 1.49.1 4.5.1
kernlab /home/biocbuild/bbs-3.22-books/R/site-library 0.9-33 4.5.1
knitr /home/biocbuild/bbs-3.22-books/R/site-library 1.50 4.5.1
labeling /home/biocbuild/bbs-3.22-books/R/site-library 0.4.3 4.5.1
lambda.r /home/biocbuild/bbs-3.22-books/R/site-library 1.2.4 4.5.1
lars /home/biocbuild/bbs-3.22-books/R/site-library 1.3 4.5.1
later /home/biocbuild/bbs-3.22-books/R/site-library 1.4.2 4.5.1
latticeExtra /home/biocbuild/bbs-3.22-books/R/site-library 0.6-30 4.5.1
lazyeval /home/biocbuild/bbs-3.22-books/R/site-library 0.2.2 4.5.1
lifecycle /home/biocbuild/bbs-3.22-books/R/site-library 1.0.4 4.5.1
limma /home/biocbuild/bbs-3.22-books/R/site-library 3.65.3 4.5.1
listenv /home/biocbuild/bbs-3.22-books/R/site-library 0.9.1 4.5.1
listviewer /home/biocbuild/bbs-3.22-books/R/site-library 4.0.0 4.5.1
locfit /home/biocbuild/bbs-3.22-books/R/site-library 1.5-9.12 4.5.1
LoomExperiment /home/biocbuild/bbs-3.22-books/R/site-library 1.27.0 4.5.1
magick /home/biocbuild/bbs-3.22-books/R/site-library 2.8.7 4.5.1
magrittr /home/biocbuild/bbs-3.22-books/R/site-library 2.0.3 4.5.1
mapproj /home/biocbuild/bbs-3.22-books/R/site-library 1.2.12 4.5.1
maps /home/biocbuild/bbs-3.22-books/R/site-library 3.4.3 4.5.1
MatrixGenerics /home/biocbuild/bbs-3.22-books/R/site-library 1.21.0 4.5.1
matrixStats /home/biocbuild/bbs-3.22-books/R/site-library 1.5.0 4.5.1
mbkmeans /home/biocbuild/bbs-3.22-books/R/site-library 1.25.0 4.5.1
mclust /home/biocbuild/bbs-3.22-books/R/site-library 6.1.1 4.5.1
memoise /home/biocbuild/bbs-3.22-books/R/site-library 2.0.1 4.5.1
metapod /home/biocbuild/bbs-3.22-books/R/site-library 1.17.0 4.5.1
mime /home/biocbuild/bbs-3.22-books/R/site-library 0.13 4.5.1
miniUI /home/biocbuild/bbs-3.22-books/R/site-library 0.1.2 4.5.1
mixtools /home/biocbuild/bbs-3.22-books/R/site-library 2.0.0.1 4.5.1
MouseGastrulationData /home/biocbuild/bbs-3.22-books/R/site-library 1.23.0 4.5.1
msigdbr /home/biocbuild/bbs-3.22-books/R/site-library 25.1.1 4.5.1
MultiAssayExperiment /home/biocbuild/bbs-3.22-books/R/site-library 1.35.7 4.5.1
multiHiCcompare /home/biocbuild/bbs-3.22-books/R/site-library 1.27.0 4.5.1
multtest /home/biocbuild/bbs-3.22-books/R/site-library 2.65.0 4.5.1
mumosa /home/biocbuild/bbs-3.22-books/R/site-library 1.17.0 4.5.1
OHCA /home/biocbuild/bbs-3.22-books/R/site-library 1.5.0 4.5.1
ontologyIndex /home/biocbuild/bbs-3.22-books/R/site-library 2.12 4.5.1
ontologyPlot /home/biocbuild/bbs-3.22-books/R/site-library 1.7 4.5.1
ontoProc /home/biocbuild/bbs-3.22-books/R/site-library 2.3.9 4.5.1
openssl /home/biocbuild/bbs-3.22-books/R/site-library 2.3.3 4.5.1
org.Hs.eg.db /home/biocbuild/bbs-3.22-books/R/site-library 3.21.0 4.5.1
org.Mm.eg.db /home/biocbuild/bbs-3.22-books/R/site-library 3.21.0 4.5.1
OrganismDbi /home/biocbuild/bbs-3.22-books/R/site-library 1.51.4 4.5.1
origami /home/biocbuild/bbs-3.22-books/R/site-library 1.0.7 4.5.1
OSCA /home/biocbuild/bbs-3.22-books/R/site-library 1.19.0 4.5.1
OSCA.advanced /home/biocbuild/bbs-3.22-books/R/site-library 1.17.0 4.5.1
OSCA.basic /home/biocbuild/bbs-3.22-books/R/site-library 1.17.0 4.5.1
OSCA.intro /home/biocbuild/bbs-3.22-books/R/site-library 1.17.1 4.5.1
OSCA.multisample /home/biocbuild/bbs-3.22-books/R/site-library 1.17.0 4.5.1
OSCA.workflows /home/biocbuild/bbs-3.22-books/R/site-library 1.17.0 4.5.1
paintmap /home/biocbuild/bbs-3.22-books/R/site-library 1.0 4.5.1
pals /home/biocbuild/bbs-3.22-books/R/site-library 1.10 4.5.1
parallelly /home/biocbuild/bbs-3.22-books/R/site-library 1.45.1 4.5.1
patchwork /home/biocbuild/bbs-3.22-books/R/site-library 1.3.1 4.5.1
pbapply /home/biocbuild/bbs-3.22-books/R/site-library 1.7-4 4.5.1
PCAtools /home/biocbuild/bbs-3.22-books/R/site-library 2.21.0 4.5.1
pheatmap /home/biocbuild/bbs-3.22-books/R/site-library 1.0.13 4.5.1
pillar /home/biocbuild/bbs-3.22-books/R/site-library 1.11.0 4.5.1
pkgconfig /home/biocbuild/bbs-3.22-books/R/site-library 2.0.3 4.5.1
plogr /home/biocbuild/bbs-3.22-books/R/site-library 0.2.0 4.5.1
plotly /home/biocbuild/bbs-3.22-books/R/site-library 4.11.0 4.5.1
plyinteractions /home/biocbuild/bbs-3.22-books/R/site-library 1.7.1 4.5.1
plyr /home/biocbuild/bbs-3.22-books/R/site-library 1.8.9 4.5.1
plyranges /home/biocbuild/bbs-3.22-books/R/site-library 1.29.1 4.5.1
png /home/biocbuild/bbs-3.22-books/R/site-library 0.1-8 4.5.1
polyclip /home/biocbuild/bbs-3.22-books/R/site-library 1.10-7 4.5.1
preprocessCore /home/biocbuild/bbs-3.22-books/R/site-library 1.71.2 4.5.1
prettyunits /home/biocbuild/bbs-3.22-books/R/site-library 1.2.0 4.5.1
princurve /home/biocbuild/bbs-3.22-books/R/site-library 2.1.6 4.5.1
progress /home/biocbuild/bbs-3.22-books/R/site-library 1.2.3 4.5.1
promises /home/biocbuild/bbs-3.22-books/R/site-library 1.3.3 4.5.1
ProtGenerics /home/biocbuild/bbs-3.22-books/R/site-library 1.41.0 4.5.1
purrr /home/biocbuild/bbs-3.22-books/R/site-library 1.1.0 4.5.1
pwalign /home/biocbuild/bbs-3.22-books/R/site-library 1.5.0 4.5.1
qqman /home/biocbuild/bbs-3.22-books/R/site-library 0.1.9 4.5.1
R.methodsS3 /home/biocbuild/bbs-3.22-books/R/site-library 1.8.2 4.5.1
R.oo /home/biocbuild/bbs-3.22-books/R/site-library 1.27.1 4.5.1
R.utils /home/biocbuild/bbs-3.22-books/R/site-library 2.13.0 4.5.1
R6 /home/biocbuild/bbs-3.22-books/R/site-library 2.6.1 4.5.1
ragg /home/biocbuild/bbs-3.22-books/R/site-library 1.4.0 4.5.1
rappdirs /home/biocbuild/bbs-3.22-books/R/site-library 0.3.3 4.5.1
RBGL /home/biocbuild/bbs-3.22-books/R/site-library 1.85.0 4.5.1
rbibutils /home/biocbuild/bbs-3.22-books/R/site-library 2.3 4.5.1
RColorBrewer /home/biocbuild/bbs-3.22-books/R/site-library 1.1-3 4.5.1
Rcpp /home/biocbuild/bbs-3.22-books/R/site-library 1.1.0 4.5.1
RcppAnnoy /home/biocbuild/bbs-3.22-books/R/site-library 0.0.22 4.5.1
RcppArmadillo /home/biocbuild/bbs-3.22-books/R/site-library 14.6.0-1 4.5.1
RcppEigen /home/biocbuild/bbs-3.22-books/R/site-library 0.3.4.0.2 4.5.1
RcppML /home/biocbuild/bbs-3.22-books/R/site-library 0.3.7 4.5.1
RcppParallel /home/biocbuild/bbs-3.22-books/R/site-library 5.1.10 4.5.1
RcppProgress /home/biocbuild/bbs-3.22-books/R/site-library 0.4.2 4.5.1
RcppThread /home/biocbuild/bbs-3.22-books/R/site-library 2.2.0 4.5.1
RcppTOML /home/biocbuild/bbs-3.22-books/R/site-library 0.2.3 4.5.1
RCurl /home/biocbuild/bbs-3.22-books/R/site-library 1.98-1.17 4.5.1
Rdpack /home/biocbuild/bbs-3.22-books/R/site-library 2.6.4 4.5.1
readr /home/biocbuild/bbs-3.22-books/R/site-library 2.1.5 4.5.1
readxl /home/biocbuild/bbs-3.22-books/R/site-library 1.4.5 4.5.1
rebook /home/biocbuild/bbs-3.22-books/R/site-library 1.19.0 4.5.1
regioneR /home/biocbuild/bbs-3.22-books/R/site-library 1.41.3 4.5.1
rematch /home/biocbuild/bbs-3.22-books/R/site-library 2.0.0 4.5.1
reshape2 /home/biocbuild/bbs-3.22-books/R/site-library 1.4.4 4.5.1
ResidualMatrix /home/biocbuild/bbs-3.22-books/R/site-library 1.19.0 4.5.1
restfulr /home/biocbuild/bbs-3.22-books/R/site-library 0.0.16 4.5.1
reticulate /home/biocbuild/bbs-3.22-books/R/site-library 1.43.0 4.5.1
Rfast /home/biocbuild/bbs-3.22-books/R/site-library 2.1.5.1 4.5.1
Rgraphviz /home/biocbuild/bbs-3.22-books/R/site-library 2.53.0 4.5.1
rhdf5 /home/biocbuild/bbs-3.22-books/R/site-library 2.53.4 4.5.1
rhdf5filters /home/biocbuild/bbs-3.22-books/R/site-library 1.21.0 4.5.1
Rhdf5lib /home/biocbuild/bbs-3.22-books/R/site-library 1.31.0 4.5.1
Rhtslib /home/biocbuild/bbs-3.22-books/R/site-library 3.5.0 4.5.1
rintrojs /home/biocbuild/bbs-3.22-books/R/site-library 0.3.4 4.5.1
rjson /home/biocbuild/bbs-3.22-books/R/site-library 0.2.23 4.5.1
rlang /home/biocbuild/bbs-3.22-books/R/site-library 1.1.6 4.5.1
rmarkdown /home/biocbuild/bbs-3.22-books/R/site-library 2.29 4.5.1
rmdformats /home/biocbuild/bbs-3.22-books/R/site-library 1.0.4 4.5.1
RMTstat /home/biocbuild/bbs-3.22-books/R/site-library 0.3.1 4.5.1
robustbase /home/biocbuild/bbs-3.22-books/R/site-library 0.99-4-1 4.5.1
rprojroot /home/biocbuild/bbs-3.22-books/R/site-library 2.1.0 4.5.1
Rsamtools /home/biocbuild/bbs-3.22-books/R/site-library 2.25.2 4.5.1
RSpectra /home/biocbuild/bbs-3.22-books/R/site-library 0.16-2 4.5.1
RSQLite /home/biocbuild/bbs-3.22-books/R/site-library 2.4.2 4.5.1
rstudioapi /home/biocbuild/bbs-3.22-books/R/site-library 0.17.1 4.5.1
rsvd /home/biocbuild/bbs-3.22-books/R/site-library 1.0.5 4.5.1
rtracklayer /home/biocbuild/bbs-3.22-books/R/site-library 1.69.1 4.5.1
Rtsne /home/biocbuild/bbs-3.22-books/R/site-library 0.17 4.5.1
S4Arrays /home/biocbuild/bbs-3.22-books/R/site-library 1.9.1 4.5.1
S4Vectors /home/biocbuild/bbs-3.22-books/R/site-library 0.47.0 4.5.1
S7 /home/biocbuild/bbs-3.22-books/R/site-library 0.2.0 4.5.1
sass /home/biocbuild/bbs-3.22-books/R/site-library 0.4.10 4.5.1
ScaledMatrix /home/biocbuild/bbs-3.22-books/R/site-library 1.17.0 4.5.1
scales /home/biocbuild/bbs-3.22-books/R/site-library 1.4.0 4.5.1
scater /home/biocbuild/bbs-3.22-books/R/site-library 1.37.0 4.5.1
scDblFinder /home/biocbuild/bbs-3.22-books/R/site-library 1.23.3 4.5.1
scPCA /home/biocbuild/bbs-3.22-books/R/site-library 1.23.0 4.5.1
scran /home/biocbuild/bbs-3.22-books/R/site-library 1.37.0 4.5.1
scRNAseq /home/biocbuild/bbs-3.22-books/R/site-library 2.23.0 4.5.1
scuttle /home/biocbuild/bbs-3.22-books/R/site-library 1.19.0 4.5.1
segmented /home/biocbuild/bbs-3.22-books/R/site-library 2.1-4 4.5.1
Seqinfo /home/biocbuild/bbs-3.22-books/R/site-library 0.99.2 4.5.1
sessioninfo /home/biocbuild/bbs-3.22-books/R/site-library 1.2.3 4.5.1
shape /home/biocbuild/bbs-3.22-books/R/site-library 1.4.6.1 4.5.1
shiny /home/biocbuild/bbs-3.22-books/R/site-library 1.11.1 4.5.1
shinyAce /home/biocbuild/bbs-3.22-books/R/site-library 0.4.4 4.5.1
shinydashboard /home/biocbuild/bbs-3.22-books/R/site-library 0.7.3 4.5.1
shinyjs /home/biocbuild/bbs-3.22-books/R/site-library 2.1.0 4.5.1
shinyWidgets /home/biocbuild/bbs-3.22-books/R/site-library 0.9.0 4.5.1
ShortRead /home/biocbuild/bbs-3.22-books/R/site-library 1.67.1 4.5.1
SingleCellExperiment /home/biocbuild/bbs-3.22-books/R/site-library 1.31.1 4.5.1
SingleR /home/biocbuild/bbs-3.22-books/R/site-library 2.11.3 4.5.1
SingleRBook /home/biocbuild/bbs-3.22-books/R/site-library 1.19.0 4.5.1
sitmo /home/biocbuild/bbs-3.22-books/R/site-library 2.0.2 4.5.1
slingshot /home/biocbuild/bbs-3.22-books/R/site-library 2.17.0 4.5.1
snifter /home/biocbuild/bbs-3.22-books/R/site-library 1.19.3 4.5.1
snow /home/biocbuild/bbs-3.22-books/R/site-library 0.4-4 4.5.1
sourcetools /home/biocbuild/bbs-3.22-books/R/site-library 0.1.7-1 4.5.1
SparseArray /home/biocbuild/bbs-3.22-books/R/site-library 1.9.1 4.5.1
sparseMatrixStats /home/biocbuild/bbs-3.22-books/R/site-library 1.21.0 4.5.1
sparsepca /home/biocbuild/bbs-3.22-books/R/site-library 0.1.2 4.5.1
SpatialExperiment /home/biocbuild/bbs-3.22-books/R/site-library 1.19.1 4.5.1
statmod /home/biocbuild/bbs-3.22-books/R/site-library 1.5.0 4.5.1
strawr /home/biocbuild/bbs-3.22-books/R/site-library 0.0.92 4.5.1
stringi /home/biocbuild/bbs-3.22-books/R/site-library 1.8.7 4.5.1
stringr /home/biocbuild/bbs-3.22-books/R/site-library 1.5.1 4.5.1
SummarizedExperiment /home/biocbuild/bbs-3.22-books/R/site-library 1.39.1 4.5.1
sys /home/biocbuild/bbs-3.22-books/R/site-library 3.4.3 4.5.1
systemfonts /home/biocbuild/bbs-3.22-books/R/site-library 1.2.3 4.5.1
TENxBrainData /home/biocbuild/bbs-3.22-books/R/site-library 1.29.0 4.5.1
TENxPBMCData /home/biocbuild/bbs-3.22-books/R/site-library 1.27.0 4.5.1
terra /home/biocbuild/bbs-3.22-books/R/site-library 1.8-60 4.5.1
textshaping /home/biocbuild/bbs-3.22-books/R/site-library 1.0.1 4.5.1
tibble /home/biocbuild/bbs-3.22-books/R/site-library 3.3.0 4.5.1
tidygraph /home/biocbuild/bbs-3.22-books/R/site-library 1.3.1 4.5.1
tidyr /home/biocbuild/bbs-3.22-books/R/site-library 1.3.1 4.5.1
tidyselect /home/biocbuild/bbs-3.22-books/R/site-library 1.2.1 4.5.1
tinytex /home/biocbuild/bbs-3.22-books/R/site-library 0.57 4.5.1
TopDom /home/biocbuild/bbs-3.22-books/R/site-library 0.10.1 4.5.1
tradeSeq /home/biocbuild/bbs-3.22-books/R/site-library 1.23.0 4.5.1
TrajectoryUtils /home/biocbuild/bbs-3.22-books/R/site-library 1.17.0 4.5.1
transport /home/biocbuild/bbs-3.22-books/R/site-library 0.15-4 4.5.1
TSCAN /home/biocbuild/bbs-3.22-books/R/site-library 1.47.0 4.5.1
tweenr /home/biocbuild/bbs-3.22-books/R/site-library 2.0.3 4.5.1
TxDb.Mmusculus.UCSC.mm10.knownGene /home/biocbuild/bbs-3.22-books/R/site-library 3.10.0 4.5.1
tzdb /home/biocbuild/bbs-3.22-books/R/site-library 0.5.0 4.5.1
UCSC.utils /home/biocbuild/bbs-3.22-books/R/site-library 1.5.0 4.5.1
universalmotif /home/biocbuild/bbs-3.22-books/R/site-library 1.27.2 4.5.1
utf8 /home/biocbuild/bbs-3.22-books/R/site-library 1.2.6 4.5.1
uwot /home/biocbuild/bbs-3.22-books/R/site-library 0.2.3 4.5.1
V8 /home/biocbuild/bbs-3.22-books/R/site-library 6.0.5 4.5.1
VariantAnnotation /home/biocbuild/bbs-3.22-books/R/site-library 1.55.1 4.5.1
vctrs /home/biocbuild/bbs-3.22-books/R/site-library 0.6.5 4.5.1
velociraptor /home/biocbuild/bbs-3.22-books/R/site-library 1.19.1 4.5.1
VennDiagram /home/biocbuild/bbs-3.22-books/R/site-library 1.7.3 4.5.1
vipor /home/biocbuild/bbs-3.22-books/R/site-library 0.4.7 4.5.1
viridis /home/biocbuild/bbs-3.22-books/R/site-library 0.6.5 4.5.1
viridisLite /home/biocbuild/bbs-3.22-books/R/site-library 0.4.2 4.5.1
vroom /home/biocbuild/bbs-3.22-books/R/site-library 1.6.5 4.5.1
WGCNA /home/biocbuild/bbs-3.22-books/R/site-library 1.73 4.5.1
withr /home/biocbuild/bbs-3.22-books/R/site-library 3.0.2 4.5.1
xfun /home/biocbuild/bbs-3.22-books/R/site-library 0.52 4.5.1
xgboost /home/biocbuild/bbs-3.22-books/R/site-library 1.7.11.1 4.5.1
XML /home/biocbuild/bbs-3.22-books/R/site-library 3.99-0.18 4.5.1
xml2 /home/biocbuild/bbs-3.22-books/R/site-library 1.3.8 4.5.1
xtable /home/biocbuild/bbs-3.22-books/R/site-library 1.8-4 4.5.1
XVector /home/biocbuild/bbs-3.22-books/R/site-library 0.49.0 4.5.1
yaml /home/biocbuild/bbs-3.22-books/R/site-library 2.3.10 4.5.1
zellkonverter /home/biocbuild/bbs-3.22-books/R/site-library 1.19.2 4.5.1
zigg /home/biocbuild/bbs-3.22-books/R/site-library 0.0.2 4.5.1
base /home/biocbuild/bbs-3.22-books/R/library 4.5.1 4.5.1
boot /home/biocbuild/bbs-3.22-books/R/library 1.3-31 4.5.1
class /home/biocbuild/bbs-3.22-books/R/library 7.3-23 4.5.1
cluster /home/biocbuild/bbs-3.22-books/R/library 2.1.8.1 4.5.1
codetools /home/biocbuild/bbs-3.22-books/R/library 0.2-20 4.5.1
compiler /home/biocbuild/bbs-3.22-books/R/library 4.5.1 4.5.1
datasets /home/biocbuild/bbs-3.22-books/R/library 4.5.1 4.5.1
foreign /home/biocbuild/bbs-3.22-books/R/library 0.8-90 4.5.1
graphics /home/biocbuild/bbs-3.22-books/R/library 4.5.1 4.5.1
grDevices /home/biocbuild/bbs-3.22-books/R/library 4.5.1 4.5.1
grid /home/biocbuild/bbs-3.22-books/R/library 4.5.1 4.5.1
KernSmooth /home/biocbuild/bbs-3.22-books/R/library 2.23-26 4.5.1
lattice /home/biocbuild/bbs-3.22-books/R/library 0.22-7 4.5.1
MASS /home/biocbuild/bbs-3.22-books/R/library 7.3-65 4.5.1
Matrix /home/biocbuild/bbs-3.22-books/R/library 1.7-3 4.5.1
methods /home/biocbuild/bbs-3.22-books/R/library 4.5.1 4.5.1
mgcv /home/biocbuild/bbs-3.22-books/R/library 1.9-3 4.5.1
nlme /home/biocbuild/bbs-3.22-books/R/library 3.1-168 4.5.1
nnet /home/biocbuild/bbs-3.22-books/R/library 7.3-20 4.5.1
parallel /home/biocbuild/bbs-3.22-books/R/library 4.5.1 4.5.1
rpart /home/biocbuild/bbs-3.22-books/R/library 4.1.24 4.5.1
spatial /home/biocbuild/bbs-3.22-books/R/library 7.3-18 4.5.1
splines /home/biocbuild/bbs-3.22-books/R/library 4.5.1 4.5.1
stats /home/biocbuild/bbs-3.22-books/R/library 4.5.1 4.5.1
stats4 /home/biocbuild/bbs-3.22-books/R/library 4.5.1 4.5.1
survival /home/biocbuild/bbs-3.22-books/R/library 3.8-3 4.5.1
tcltk /home/biocbuild/bbs-3.22-books/R/library 4.5.1 4.5.1
tools /home/biocbuild/bbs-3.22-books/R/library 4.5.1 4.5.1
utils /home/biocbuild/bbs-3.22-books/R/library 4.5.1 4.5.1