Package: csawBook Version: 1.17.0 Command: /home/biocbuild/bbs-3.22-bioc/R/bin/R CMD build --keep-empty-dirs --no-resave-data csawBook StartedAt: 2025-08-11 06:17:06 -0400 (Mon, 11 Aug 2025) EndedAt: 2025-08-11 07:43:22 -0400 (Mon, 11 Aug 2025) EllapsedTime: 5175.7 seconds RetCode: 0 Status: OK PackageFile: csawBook_1.17.0.tar.gz PackageFileSize: 2.868 MiB