Package: OSCA.workflows Version: 1.17.0 Command: /home/biocbuild/bbs-3.22-bioc/R/bin/R CMD build --keep-empty-dirs --no-resave-data OSCA.workflows StartedAt: 2025-08-11 06:17:20 -0400 (Mon, 11 Aug 2025) EndedAt: 2025-08-11 07:24:47 -0400 (Mon, 11 Aug 2025) EllapsedTime: 4046.8 seconds RetCode: 0 Status: OK PackageFile: OSCA.workflows_1.17.0.tar.gz PackageFileSize: 17.15 MiB