Package: OSCA.basic Version: 1.17.0 Command: /home/biocbuild/bbs-3.22-bioc/R/bin/R CMD INSTALL OSCA.basic StartedAt: 2025-08-11 06:15:45 -0400 (Mon, 11 Aug 2025) EndedAt: 2025-08-11 06:16:21 -0400 (Mon, 11 Aug 2025) EllapsedTime: 35.4 seconds RetCode: 0 Status: OK