Package: OSCA.advanced Version: 1.17.0 Command: /home/biocbuild/bbs-3.22-bioc/R/bin/R CMD INSTALL OSCA.advanced StartedAt: 2025-08-11 06:16:21 -0400 (Mon, 11 Aug 2025) EndedAt: 2025-08-11 06:17:01 -0400 (Mon, 11 Aug 2025) EllapsedTime: 40.2 seconds RetCode: 0 Status: OK