Package: BiocBookDemo Version: 1.7.0 Command: /home/biocbuild/bbs-3.22-bioc/R/bin/R CMD build --keep-empty-dirs --no-resave-data BiocBookDemo StartedAt: 2025-08-11 06:17:06 -0400 (Mon, 11 Aug 2025) EndedAt: 2025-08-11 06:18:01 -0400 (Mon, 11 Aug 2025) EllapsedTime: 55.3 seconds RetCode: 0 Status: OK PackageFile: BiocBookDemo_1.7.0.tar.gz PackageFileSize: 3.308 MiB