Package: csawBook Version: 1.19.0 Command: /Library/Frameworks/R.framework/Resources/bin/R CMD INSTALL csawBook StartedAt: 2025-11-24 06:45:11 -0500 (Mon, 24 Nov 2025) EndedAt: 2025-11-24 06:45:24 -0500 (Mon, 24 Nov 2025) EllapsedTime: 13.3 seconds RetCode: 0 Status: OK