Package: csawBook Version: 1.19.0 Command: /Library/Frameworks/R.framework/Resources/bin/R CMD build --keep-empty-dirs --no-resave-data csawBook StartedAt: 2025-11-24 06:46:02 -0500 (Mon, 24 Nov 2025) EndedAt: 2025-11-24 07:24:53 -0500 (Mon, 24 Nov 2025) EllapsedTime: 2331.5 seconds RetCode: 0 Status: OK PackageFile: csawBook_1.19.0.tar.gz PackageFileSize: 3.87 MiB