Package: SingleRBook Version: 1.17.1 Command: /home/biocbuild/bbs-3.21-bioc/R/bin/R CMD INSTALL SingleRBook StartedAt: 2025-02-24 10:15:36 -0500 (Mon, 24 Feb 2025) EndedAt: 2025-02-24 10:15:36 -0500 (Mon, 24 Feb 2025) EllapsedTime: 0.2 seconds RetCode: 1 Status: ERROR