Package: SingleRBook Version: 1.21.0 Command: /home/biocbuild/bbs-3.23-bioc/R/bin/R CMD build --keep-empty-dirs --no-resave-data SingleRBook StartedAt: 2025-11-26 10:21:24 -0500 (Wed, 26 Nov 2025) EndedAt: 2025-11-26 10:46:19 -0500 (Wed, 26 Nov 2025) EllapsedTime: 1494.9 seconds RetCode: 0 Status: OK PackageFile: SingleRBook_1.21.0.tar.gz PackageFileSize: 6.169 MiB