Package: OSCA Version: 1.17.0 Command: rm -rf OSCA.book && mkdir OSCA.book && /home/biocbuild/BBS/utils/deploy_book.py OSCA_1.17.0.tar.gz OSCA.book StartedAt: 2025-02-10 11:53:08 -0500 (Mon, 10 Feb 2025) EndedAt: 2025-02-10 11:53:09 -0500 (Mon, 10 Feb 2025) EllapsedTime: 1.6 seconds RetCode: 0 Status: OK DeployDestDir: OSCA.book Warnings: 0