Package: OSCA Version: 1.17.0 Command: /home/biocbuild/bbs-3.21-bioc/R/bin/R CMD build --keep-empty-dirs --no-resave-data OSCA StartedAt: 2025-02-12 10:17:10 -0500 (Wed, 12 Feb 2025) EndedAt: 2025-02-12 10:17:24 -0500 (Wed, 12 Feb 2025) EllapsedTime: 14.0 seconds RetCode: 0 Status: OK PackageFile: OSCA_1.17.0.tar.gz PackageFileSize: 432.5 KiB