Back to Books build report for BioC 3.22

This page was generated on 2025-04-30 14:30 -0400 (Wed, 30 Apr 2025).

HostnameOSArch (*)R versionInstalled pkgs
nebbiolo2Linux (Ubuntu 24.04.1 LTS)x86_644.5.0 (2025-04-11) -- "How About a Twenty-Six" 4734
Click on any hostname to see more info about the system (e.g. compilers)      (*) as reported by 'uname -p', except on Windows and Mac OS X

All results for package OSCA


To the developers/maintainers of the OSCA package:
- Use the following Renviron settings to reproduce errors and warnings.
- If 'R CMD check' started to fail recently on the Linux builder(s) over a missing dependency, add the missing dependency to 'Suggests:' in your DESCRIPTION file. See Renviron.bioc for more information.

raw results

Package 4/10HostnameOS / ArchINSTALLBUILDCHECK
OSCA 1.19.0  (landing page)
Alan O'Callaghan
Snapshot Date: 2025-04-30 06:00 -0400 (Wed, 30 Apr 2025)
git_url: https://git.bioconductor.org/packages/OSCA
git_branch: devel
git_last_commit: 862cabb
git_last_commit_date: 2025-04-15 10:47:06 -0400 (Tue, 15 Apr 2025)
nebbiolo2Linux (Ubuntu 24.04.1 LTS) / x86_64  OK    OK    OK  UNNEEDED, same version is already published