Package: OSCA.workflows Version: 1.17.0 Command: /home/biocbuild/bbs-3.22-books/R/bin/R CMD INSTALL OSCA.workflows StartedAt: 2025-09-24 06:15:12 -0400 (Wed, 24 Sep 2025) EndedAt: 2025-09-24 06:15:50 -0400 (Wed, 24 Sep 2025) EllapsedTime: 38.1 seconds RetCode: 0 Status: OK