Package: OSCA.workflows Version: 1.17.0 Command: /home/biocbuild/bbs-3.22-books/R/bin/R CMD build --keep-empty-dirs --no-resave-data OSCA.workflows StartedAt: 2025-09-24 06:17:30 -0400 (Wed, 24 Sep 2025) EndedAt: 2025-09-24 06:21:30 -0400 (Wed, 24 Sep 2025) EllapsedTime: 240.3 seconds RetCode: 1 Status: ERROR PackageFile: None PackageFileSize: NA