Package: OSCA.workflows Version: 1.19.0 Command: /home/biocbuild/bbs-3.23-bioc/R/bin/R CMD INSTALL OSCA.workflows StartedAt: 2025-11-12 10:15:19 -0500 (Wed, 12 Nov 2025) EndedAt: 2025-11-12 10:15:58 -0500 (Wed, 12 Nov 2025) EllapsedTime: 38.2 seconds RetCode: 0 Status: OK